BEGIN:VCALENDAR
VERSION:2.0
PRODID:-//Dhio Research and Engineering Private Limited - ECPv5.2.1//NONSGML v1.0//EN
CALSCALE:GREGORIAN
METHOD:PUBLISH
X-WR-CALNAME:Dhio Research and Engineering Private Limited
X-ORIGINAL-URL:https://www.dhioresearch.com
X-WR-CALDESC:Events for Dhio Research and Engineering Private Limited
BEGIN:VTIMEZONE
TZID:UTC
BEGIN:STANDARD
TZOFFSETFROM:+0000
TZOFFSETTO:+0000
TZNAME:UTC
DTSTART:20240101T000000
END:STANDARD
END:VTIMEZONE
BEGIN:VEVENT
DTSTART;TZID=UTC:20240926T100000
DTEND;TZID=UTC:20240927T180000
DTSTAMP:20260420T001818
CREATED:20240922T173449Z
LAST-MODIFIED:20240922T173637Z
UID:6020-1727344800-1727460000@www.dhioresearch.com
SUMMARY:Two Days Hands on Workshop on Composite Process Simulation Manufacturing
DESCRIPTION:> Two Days Hands on Workshop on Composite Process Simulation Manufacturing \nComposite Theory & Simulation based quality Improvement\nDate: 26-27th September 2024\, Venue: Hotel IV-Sanctum\, Gandhinagar\, Bangalore \n> Topics Covered (Theory & Practical) \n\nComposite Material Design and Characterisation\nFundamentals of Composite Manufacturing Process\, Challenges Associated with Process\, Quality\nComposite Manufacturing Simulation\n\nProcessing of Polymer Matrix Composites : Interface in Polymer Matrix Composites\nMetal Matrix Composites Processing : Interfaces in Metal Matrix Composites\nProcessing of Ceramic Matrix Composites : Interface in Ceramic Matrix Composites\nCarbon Fiber/Carbon Matrix Composites\n\n\n\n\nFundamentals of Computational Techniques to manufacturing process simulation\nFEA /Micromechanics Interface : Export fiber orientation\, anisotropic mechanical property\, stress and pressure simulation results to structural analysis software. Validate the structural performance of products and mold sustainability.\nMaterial Characterization : Evaluate curing kinetics under temperature variations. Evaluate viscoelastic properties\, chemical shrinkage and thermal expansion effect/ Evaluate the permeability and porosity of fabric layer.\nSMC/BMC/GMT/D-LFT Compression Molding: Visualize dynamic melt flow advancement during compression molding process / Evaluate chopped fiber orientation prediction\, compression force response and anisotropic warpage result for SMC/BMC/GMT/D-LFT compression molding / Predict potential molding defects\, such as flashing.\nResin Transfer Molding (RTM): Predict resin flow behavior through anisotropic porous media / Decide appropriate fabric materials and optimize process conditions / Control resin infusion by pressure or flow rate / Capture cure reaction trend during molding through viscosity and curing kinetics models.\nPrediction of Fiber Orientation\, Length and Distribution\, Evaluating the filler effect to Mechanical Properties and Final Shrinkage\, Process Condition Optimization to Improve Strength\n\n 
URL:https://www.dhioresearch.com/event/two-days-hands-on-workshop-on-composite-process-simulation-manufacturing/
LOCATION:Hotel IV Sanctum\, Gandhinagar\, Bangalore\, 33\, 5th Main Rd\, near Tata Consultancy Services\, Gandhi Nagar\,\, Bangalore\, Karnataka\, 560009\, India
CATEGORIES:Workshops
ATTACH;FMTTYPE=image/png:https://www.dhioresearch.com/wp-content/uploads/2024/09/1.png
ORGANIZER;CN="DHIO%20RESEARCH%20AND%20ENGINEERING%20PVT%20LTD":MAILTO:nls@dhioresearch.com
END:VEVENT
END:VCALENDAR