BEGIN:VCALENDAR
VERSION:2.0
PRODID:-//Dhio Research and Engineering Private Limited - ECPv5.2.1//NONSGML v1.0//EN
CALSCALE:GREGORIAN
METHOD:PUBLISH
X-WR-CALNAME:Dhio Research and Engineering Private Limited
X-ORIGINAL-URL:https://www.dhioresearch.com
X-WR-CALDESC:Events for Dhio Research and Engineering Private Limited
BEGIN:VTIMEZONE
TZID:UTC
BEGIN:STANDARD
TZOFFSETFROM:+0000
TZOFFSETTO:+0000
TZNAME:UTC
DTSTART:20230101T000000
END:STANDARD
END:VTIMEZONE
BEGIN:VEVENT
DTSTART;TZID=UTC:20230505T110000
DTEND;TZID=UTC:20230505T123000
DTSTAMP:20260421T025329
CREATED:20230409T170843Z
LAST-MODIFIED:20230409T171044Z
UID:5050-1683284400-1683289800@www.dhioresearch.com
SUMMARY:Webinar on Motor  Cooling Simulation – Faster and Efficient way of motor cooling simulation using Particleworks
DESCRIPTION:Join our upcoming webinar on Motor Cooling Simulation – Faster and Efficient way of motor cooling simulation using Particleworks \n#Particleworks – Mesh Free CFD Simulation code Developed by Prometech Japan and used worldwide by leading rotating Machinery Manufacturers and it can handle the oil lubrication\, motor cooling more efficiently than conventional CFD Codes. Join our webinar to know more. \nDate : 5th May 2023\, 11.00 am\nLink to Join : https://forms.office.com/r/UxVW8miE0S\nEmail : nls@dhioresearch.com \n#Particleworks #GranuleWorks #DHIO #Dhioresearch #MeshFree #CFD\n#ComputationalFluidDynamics #Analysis #Engineering #ElectricMotor
URL:https://www.dhioresearch.com/event/webinar-on-motor-cooling-simulation-faster-and-efficient-way-of-motor-cooling-simulation-using-particleworks/
LOCATION:Online Workshop
CATEGORIES:Particleworks,Webinars
ATTACH;FMTTYPE=image/jpeg:https://www.dhioresearch.com/wp-content/uploads/2023/04/Webinar-Motor-Cooling-Simulation-09042023-scaled.jpg
ORGANIZER;CN="DHIO%20RESEARCH%20AND%20ENGINEERING%20PVT%20LTD":MAILTO:nls@dhioresearch.com
END:VEVENT
END:VCALENDAR