BEGIN:VCALENDAR
VERSION:2.0
PRODID:-//Dhio Research and Engineering Private Limited - ECPv5.2.1//NONSGML v1.0//EN
CALSCALE:GREGORIAN
METHOD:PUBLISH
X-WR-CALNAME:Dhio Research and Engineering Private Limited
X-ORIGINAL-URL:https://www.dhioresearch.com
X-WR-CALDESC:Events for Dhio Research and Engineering Private Limited
BEGIN:VTIMEZONE
TZID:UTC
BEGIN:STANDARD
TZOFFSETFROM:+0000
TZOFFSETTO:+0000
TZNAME:UTC
DTSTART:20220101T000000
END:STANDARD
END:VTIMEZONE
BEGIN:VEVENT
DTSTART;TZID=UTC:20221019T100000
DTEND;TZID=UTC:20221019T173000
DTSTAMP:20260423T132358
CREATED:20220928T163314Z
LAST-MODIFIED:20220928T163441Z
UID:4827-1666173600-1666200600@www.dhioresearch.com
SUMMARY:One day technical event - Computational Material Modeling and Simulation
DESCRIPTION:One Day Technical Event on \nComputational Material Modeling and Simulation\n19th October 2022\, 10.00 am – 05.30 pm \nSchedule 
URL:https://www.dhioresearch.com/event/one-day-technical-event-computational-material-modeling-and-simulation/
LOCATION:Hotel Royal Orchid\, Manipal Center Bangalore\, Hotel Royal Orchid\, Manipal Center\, Bangalore\, Karnataka\, 560010\, India
CATEGORIES:J-OCTA
ATTACH;FMTTYPE=image/jpeg:https://www.dhioresearch.com/wp-content/uploads/2022/09/MolecularDynamics-Web-scaled.jpg
END:VEVENT
END:VCALENDAR