BEGIN:VCALENDAR
VERSION:2.0
PRODID:-//Dhio Research and Engineering Private Limited - ECPv5.2.1//NONSGML v1.0//EN
CALSCALE:GREGORIAN
METHOD:PUBLISH
X-WR-CALNAME:Dhio Research and Engineering Private Limited
X-ORIGINAL-URL:https://www.dhioresearch.com
X-WR-CALDESC:Events for Dhio Research and Engineering Private Limited
BEGIN:VTIMEZONE
TZID:UTC
BEGIN:STANDARD
TZOFFSETFROM:+0000
TZOFFSETTO:+0000
TZNAME:UTC
DTSTART:20220101T000000
END:STANDARD
END:VTIMEZONE
BEGIN:VEVENT
DTSTART;TZID=UTC:20220729T103000
DTEND;TZID=UTC:20220729T113000
DTSTAMP:20260423T181627
CREATED:20220626T172414Z
LAST-MODIFIED:20220626T172517Z
UID:4781-1659090600-1659094200@www.dhioresearch.com
SUMMARY:Webinar on new frontier in co-simulation (1D - 3D Coupled Analysis) Flownex & ANSYS Co-Simulation
DESCRIPTION:Live Webinar on  new frontier in co-simulation (1D – 3D Coupled Analysis)\nFlownex & ANSYS Co-Simulation\n29-July-2022\, 10.30 am – 11.30 am \nAgenda \n– Introduction to Flownex\n– Introduction to ANSYS\n– Benefits of System Level to Component level Co-Simulation (1D-3D Co-Simulation)\n– Case Study Demonstration\n– Live Demonstration of Linking Flownex & ANSYS and Co-Simulation\n– Question and Answers \nLink to Register ?\nhttps://forms.office.com/r/4wAUQFAfJz
URL:https://www.dhioresearch.com/event/webinar-on-new-frontier-in-co-simulation-1d-3d-coupled-analysis-flownex-ansys-co-simulation/
LOCATION:Online Workshop
CATEGORIES:ANSYS,Flownex
ATTACH;FMTTYPE=image/jpeg:https://www.dhioresearch.com/wp-content/uploads/2022/06/FlownexWebinar-1.jpg
ORGANIZER;CN="DHIO%20RESEARCH%20AND%20ENGINEERING%20PVT%20LTD":MAILTO:nls@dhioresearch.com
END:VEVENT
END:VCALENDAR